BEGIN:VCALENDAR
VERSION:2.0
PRODID:-//American Battle Monuments Commission (ABMC) - ECPv6.15.18//NONSGML v1.0//EN
CALSCALE:GREGORIAN
METHOD:PUBLISH
X-WR-CALNAME:American Battle Monuments Commission (ABMC)
X-ORIGINAL-URL:https://www.abmc.gov
X-WR-CALDESC:Events for American Battle Monuments Commission (ABMC)
REFRESH-INTERVAL;VALUE=DURATION:PT1H
X-Robots-Tag:noindex
X-PUBLISHED-TTL:PT1H
BEGIN:VTIMEZONE
TZID:America/New_York
BEGIN:DAYLIGHT
TZOFFSETFROM:-0500
TZOFFSETTO:-0400
TZNAME:EDT
DTSTART:20130310T070000
END:DAYLIGHT
BEGIN:STANDARD
TZOFFSETFROM:-0400
TZOFFSETTO:-0500
TZNAME:EST
DTSTART:20131103T060000
END:STANDARD
BEGIN:DAYLIGHT
TZOFFSETFROM:-0500
TZOFFSETTO:-0400
TZNAME:EDT
DTSTART:20140309T070000
END:DAYLIGHT
BEGIN:STANDARD
TZOFFSETFROM:-0400
TZOFFSETTO:-0500
TZNAME:EST
DTSTART:20141102T060000
END:STANDARD
BEGIN:DAYLIGHT
TZOFFSETFROM:-0500
TZOFFSETTO:-0400
TZNAME:EDT
DTSTART:20150308T070000
END:DAYLIGHT
BEGIN:STANDARD
TZOFFSETFROM:-0400
TZOFFSETTO:-0500
TZNAME:EST
DTSTART:20151101T060000
END:STANDARD
END:VTIMEZONE
BEGIN:VEVENT
DTSTART;TZID=America/New_York:20140816T091500
DTEND;TZID=America/New_York:20140816T091500
DTSTAMP:20260420T063813
CREATED:20140816T040000Z
LAST-MODIFIED:20250410T153846Z
UID:33011-1408180500-1408180500@www.abmc.gov
SUMMARY:70th Anniversary of Operation Dragoon: Town of Draguigan Ceremony
DESCRIPTION:To commemorate the 70th anniversary of Operation Dragoon\, two ceremonies were held at Rhone American Cemetery on August 16\, 2014. The Town Hall of Draguignan and the Franco-American Society of Draguignan organized the traditional memorial ceremony honoring the service and sacrifice of those Americans buried and memorialized at the cemetery.
URL:https://www.abmc.gov/event/70th-anniversary-operation-dragoon-town-draguigan-ceremony/
ATTACH;FMTTYPE=image/jpeg:https://www.abmc.gov/wordpress-uploads/DSC_0263.jpg
END:VEVENT
END:VCALENDAR