BEGIN:VCALENDAR
VERSION:2.0
PRODID:-//American Battle Monuments Commission (ABMC) - ECPv6.15.18//NONSGML v1.0//EN
CALSCALE:GREGORIAN
METHOD:PUBLISH
X-WR-CALNAME:American Battle Monuments Commission (ABMC)
X-ORIGINAL-URL:https://www.abmc.gov
X-WR-CALDESC:Events for American Battle Monuments Commission (ABMC)
REFRESH-INTERVAL;VALUE=DURATION:PT1H
X-Robots-Tag:noindex
X-PUBLISHED-TTL:PT1H
BEGIN:VTIMEZONE
TZID:America/New_York
BEGIN:DAYLIGHT
TZOFFSETFROM:-0500
TZOFFSETTO:-0400
TZNAME:EDT
DTSTART:20170312T070000
END:DAYLIGHT
BEGIN:STANDARD
TZOFFSETFROM:-0400
TZOFFSETTO:-0500
TZNAME:EST
DTSTART:20171105T060000
END:STANDARD
BEGIN:DAYLIGHT
TZOFFSETFROM:-0500
TZOFFSETTO:-0400
TZNAME:EDT
DTSTART:20180311T070000
END:DAYLIGHT
BEGIN:STANDARD
TZOFFSETFROM:-0400
TZOFFSETTO:-0500
TZNAME:EST
DTSTART:20181104T060000
END:STANDARD
BEGIN:DAYLIGHT
TZOFFSETFROM:-0500
TZOFFSETTO:-0400
TZNAME:EDT
DTSTART:20190310T070000
END:DAYLIGHT
BEGIN:STANDARD
TZOFFSETFROM:-0400
TZOFFSETTO:-0500
TZNAME:EST
DTSTART:20191103T060000
END:STANDARD
END:VTIMEZONE
BEGIN:VEVENT
DTSTART;TZID=America/New_York:20180527T100000
DTEND;TZID=America/New_York:20180527T100000
DTSTAMP:20260420T213259
CREATED:20180527T040000Z
LAST-MODIFIED:20250410T150753Z
UID:32789-1527415200-1527415200@www.abmc.gov
SUMMARY:Memorial Day 2018 at Brookwood American Cemetery
DESCRIPTION:Brookwood American Cemetery in England hosted its annual Memorial Day Ceremony on Sunday\, May 27\, 2018 at 3:00 p.m. \n\n\n\nWelcoming Address\nAngelo Munsel\, Superintendent of Brookwood American Cemetery\n\n\nFly Over\n\n\nIntroductory Remarks\nGerald Lefler\, Deputy Director of Cemetery Operations for the American Battle Monuments Commission\n\n\nPosting of the Colors\nColor Guard USAF 501st  CSW\, RAF Alconbury\n\n\nPresidential Proclamation\nAngelo Munsel\, Superintendent of Brookwood American Cemetery\n\n\nInvocation\nChaplain John Schuetze\, 501st Combat Support Wing\, U.S. Air Force\nFather Stephen Sharkey\, ATC Pirbright\nRabbi Yechezkel Mandelbaum\, Rabbi of Kingston\, Surbiton & District United Synagogue\n\n\nAct of Remembrance\nFather Stephen Sharkey\, ATC Pirbright\n\n\nRemarks\nRobert Johnson\, U.S. Ambassador to the United Kingdom of Great Britain and Northern Ireland\nVice Admiral Lisa Franchetti\, Commander U.S. 6th Fleet\nWill Forster Mayor elect of Woking\n\n\n“Amazing Grace”\nRossella Caruso\n\n\nLaying of Wreaths\n“Going Home\,” U.S. Naval Forces Europe Band\n\n\n21 Gun Salute – Sounding of Taps – a Moment of Silence\n\n\nNational Anthems performed by the U.S. Naval Forces Europe Band\n\n\nClosing Prayer\nFather Stephen Sharkey\, ATC Pirbright\n\n\nClosing Remarks\nGerald Lefler\, Deputy Director of Cemetery Operations for the American Battle Monuments Commission\n\n\nRetiring of Colors\n\n\n\n  \n 
URL:https://www.abmc.gov/event/memorial-day-2018-brookwood-american-cemetery/
ATTACH;FMTTYPE=image/jpeg:https://www.abmc.gov/wordpress-uploads/ABMCBrookwood-27My8-841977-A.jpg
END:VEVENT
END:VCALENDAR