BEGIN:VCALENDAR
VERSION:2.0
PRODID:-//American Battle Monuments Commission (ABMC) - ECPv6.15.18//NONSGML v1.0//EN
CALSCALE:GREGORIAN
METHOD:PUBLISH
X-WR-CALNAME:American Battle Monuments Commission (ABMC)
X-ORIGINAL-URL:https://www.abmc.gov
X-WR-CALDESC:Events for American Battle Monuments Commission (ABMC)
REFRESH-INTERVAL;VALUE=DURATION:PT1H
X-Robots-Tag:noindex
X-PUBLISHED-TTL:PT1H
BEGIN:VTIMEZONE
TZID:America/New_York
BEGIN:DAYLIGHT
TZOFFSETFROM:-0500
TZOFFSETTO:-0400
TZNAME:EDT
DTSTART:20170312T070000
END:DAYLIGHT
BEGIN:STANDARD
TZOFFSETFROM:-0400
TZOFFSETTO:-0500
TZNAME:EST
DTSTART:20171105T060000
END:STANDARD
BEGIN:DAYLIGHT
TZOFFSETFROM:-0500
TZOFFSETTO:-0400
TZNAME:EDT
DTSTART:20180311T070000
END:DAYLIGHT
BEGIN:STANDARD
TZOFFSETFROM:-0400
TZOFFSETTO:-0500
TZNAME:EST
DTSTART:20181104T060000
END:STANDARD
BEGIN:DAYLIGHT
TZOFFSETFROM:-0500
TZOFFSETTO:-0400
TZNAME:EDT
DTSTART:20190310T070000
END:DAYLIGHT
BEGIN:STANDARD
TZOFFSETFROM:-0400
TZOFFSETTO:-0500
TZNAME:EST
DTSTART:20191103T060000
END:STANDARD
END:VTIMEZONE
BEGIN:VEVENT
DTSTART;TZID=America/New_York:20180527T050000
DTEND;TZID=America/New_York:20180527T050000
DTSTAMP:20260420T232104
CREATED:20180527T040000Z
LAST-MODIFIED:20250410T150811Z
UID:32795-1527397200-1527397200@www.abmc.gov
SUMMARY:Memorial Day 2018 at Meuse-Argonne American Cemetery
DESCRIPTION:Meuse-Argonne American Cemetery in France will host its annual Memorial Day Ceremony on Sunday\, May 27\, 2018 at 11:00 a.m. Attendance is free and open to the public.
URL:https://www.abmc.gov/event/memorial-day-2018-meuse-argonne-american-cemetery/
ATTACH;FMTTYPE=image/jpeg:https://www.abmc.gov/wordpress-uploads/2017-05-2820Argonne-Meuse20Memorial20Day20ABMC-CDA-8823.jpg
END:VEVENT
END:VCALENDAR