BEGIN:VCALENDAR
VERSION:2.0
PRODID:-//American Battle Monuments Commission (ABMC) - ECPv6.15.18//NONSGML v1.0//EN
CALSCALE:GREGORIAN
METHOD:PUBLISH
X-WR-CALNAME:American Battle Monuments Commission (ABMC)
X-ORIGINAL-URL:https://www.abmc.gov
X-WR-CALDESC:Events for American Battle Monuments Commission (ABMC)
REFRESH-INTERVAL;VALUE=DURATION:PT1H
X-Robots-Tag:noindex
X-PUBLISHED-TTL:PT1H
BEGIN:VTIMEZONE
TZID:America/New_York
BEGIN:DAYLIGHT
TZOFFSETFROM:-0500
TZOFFSETTO:-0400
TZNAME:EDT
DTSTART:20170312T070000
END:DAYLIGHT
BEGIN:STANDARD
TZOFFSETFROM:-0400
TZOFFSETTO:-0500
TZNAME:EST
DTSTART:20171105T060000
END:STANDARD
BEGIN:DAYLIGHT
TZOFFSETFROM:-0500
TZOFFSETTO:-0400
TZNAME:EDT
DTSTART:20180311T070000
END:DAYLIGHT
BEGIN:STANDARD
TZOFFSETFROM:-0400
TZOFFSETTO:-0500
TZNAME:EST
DTSTART:20181104T060000
END:STANDARD
BEGIN:DAYLIGHT
TZOFFSETFROM:-0500
TZOFFSETTO:-0400
TZNAME:EDT
DTSTART:20190310T070000
END:DAYLIGHT
BEGIN:STANDARD
TZOFFSETFROM:-0400
TZOFFSETTO:-0500
TZNAME:EST
DTSTART:20191103T060000
END:STANDARD
END:VTIMEZONE
BEGIN:VEVENT
DTSTART;TZID=America/New_York:20180528T110000
DTEND;TZID=America/New_York:20180528T110000
DTSTAMP:20260420T213259
CREATED:20180528T040000Z
LAST-MODIFIED:20250410T150734Z
UID:32782-1527505200-1527505200@www.abmc.gov
SUMMARY:Memorial Day 2018 at Mexico City National Cemetery
DESCRIPTION:Mexico City National Cemetery hosted its annual Memorial Day Ceremony on Monday\, May 28\, 2018 at 10:00 a.m. \n\n\n\nWelcome\nHector De Jesus\, Superintendent of Mexico City National Cemetery\nMaj. Brian P. Gray\n\n\nPlacement of Colors\nU.S. Marine Corps from the U.S. Embassy in Mexico City\n\n\nU.S. National Anthem\nThe Star-Spangled Banner\n\n\nFlag Posting\n\n\nInvocation\nPastor Thomas Lynn Sasser\n\n\nPlacing of POW-MIA Flag\nMSgt. Luis Munguia\, Defense Attaché Office\n\n\nRemarks\nEric Rojas\, Commander of American Legion Post 2\n\n\nPresidential Proclamation\n\n\n\nRemarks\nCol. Edward Bonfoey\, Senior Defense Official and Defense Attaché\n\n\nPlacement of Wreaths\n\n\nAddress\nWilliam H. Duncan\, Chargé d’AffairesU.S. Embassy in Mexico City\, Mexico\n\n\nBenediction\nPastor Thomas Lynn Sasser\n\n\nTaps\n\n\nRetirement of Colors
URL:https://www.abmc.gov/event/memorial-day-2018-mexico-city-national-cemetery/
ATTACH;FMTTYPE=image/jpeg:https://www.abmc.gov/wordpress-uploads/IMG_3644.jpg
END:VEVENT
END:VCALENDAR