BEGIN:VCALENDAR
VERSION:2.0
PRODID:-//American Battle Monuments Commission (ABMC) - ECPv6.15.18//NONSGML v1.0//EN
CALSCALE:GREGORIAN
METHOD:PUBLISH
X-WR-CALNAME:American Battle Monuments Commission (ABMC)
X-ORIGINAL-URL:https://www.abmc.gov
X-WR-CALDESC:Events for American Battle Monuments Commission (ABMC)
REFRESH-INTERVAL;VALUE=DURATION:PT1H
X-Robots-Tag:noindex
X-PUBLISHED-TTL:PT1H
BEGIN:VTIMEZONE
TZID:America/New_York
BEGIN:DAYLIGHT
TZOFFSETFROM:-0500
TZOFFSETTO:-0400
TZNAME:EDT
DTSTART:20180311T070000
END:DAYLIGHT
BEGIN:STANDARD
TZOFFSETFROM:-0400
TZOFFSETTO:-0500
TZNAME:EST
DTSTART:20181104T060000
END:STANDARD
BEGIN:DAYLIGHT
TZOFFSETFROM:-0500
TZOFFSETTO:-0400
TZNAME:EDT
DTSTART:20190310T070000
END:DAYLIGHT
BEGIN:STANDARD
TZOFFSETFROM:-0400
TZOFFSETTO:-0500
TZNAME:EST
DTSTART:20191103T060000
END:STANDARD
BEGIN:DAYLIGHT
TZOFFSETFROM:-0500
TZOFFSETTO:-0400
TZNAME:EDT
DTSTART:20200308T070000
END:DAYLIGHT
BEGIN:STANDARD
TZOFFSETFROM:-0400
TZOFFSETTO:-0500
TZNAME:EST
DTSTART:20201101T060000
END:STANDARD
END:VTIMEZONE
BEGIN:VEVENT
DTSTART;TZID=America/New_York:20190527T060000
DTEND;TZID=America/New_York:20190527T060000
DTSTAMP:20260424T045401
CREATED:20190527T040000Z
LAST-MODIFIED:20250410T150021Z
UID:32721-1558936800-1558936800@www.abmc.gov
SUMMARY:Memorial Day 2019 at Cambridge American Cemetery
DESCRIPTION:Cambridge American Cemetery in England will host its annual Memorial Day Ceremony on May 27\, 2019 at 11 a.m. Attendance is free and open to the public. If you are a family member of someone who is honored at the cemetery and you’re planning to attend the ceremony\, please email the cemetery at least two weeks prior to the event. \nSequence of events: \n\n\n\nNational Anthems: United Kingdom\, United States (NAVEUR Band)\n\n\nInvocation: Military Chaplain (USAFE Chaplain)\n\n\nWelcome remarks: Mr. Rich Cobb\, Superintendent\n\n\nMaster of Ceremony Introduction & History (Part I): Ms. Suzie Harrison\, Interpretive Guide\n\n\nAddress: Her Majesty’s Representative\, Mr. Chris Pankhurst\n\n\nMaster of Ceremony History (Part II): Ms. Suzie Harrison\n\n\nAddress: US Ambassador Woody Johnson\n\n\nAddress: Senior US Military Representative\, ADM James G. Foggo\, III\, USN\n\n\nHonored Guest\, Ms. Jonna Doolittle-Hoppes\, granddaughter of Gen Doolittle\n\n\nWreath Laying – Moment of Silence\n\n\nVintage Aircraft Overflight (Imperial War Museum Duxford: B-17\, P-47\, P-51)\n\n\nBenediction: Military Chaplain (USAFE Chaplain)\n\n\nHonors: Taps (USAFE Honor Platoon\, USAREUR Firing Detail)
URL:https://www.abmc.gov/event/memorial-day-2019-cambridge-american-cemetery/
ATTACH;FMTTYPE=image/jpeg:https://www.abmc.gov/wordpress-uploads/IMG_0756.jpg
END:VEVENT
END:VCALENDAR