BEGIN:VCALENDAR
VERSION:2.0
PRODID:-//American Battle Monuments Commission (ABMC) - ECPv6.15.18//NONSGML v1.0//EN
CALSCALE:GREGORIAN
METHOD:PUBLISH
X-WR-CALNAME:American Battle Monuments Commission (ABMC)
X-ORIGINAL-URL:https://www.abmc.gov
X-WR-CALDESC:Events for American Battle Monuments Commission (ABMC)
REFRESH-INTERVAL;VALUE=DURATION:PT1H
X-Robots-Tag:noindex
X-PUBLISHED-TTL:PT1H
BEGIN:VTIMEZONE
TZID:America/New_York
BEGIN:DAYLIGHT
TZOFFSETFROM:-0500
TZOFFSETTO:-0400
TZNAME:EDT
DTSTART:20180311T070000
END:DAYLIGHT
BEGIN:STANDARD
TZOFFSETFROM:-0400
TZOFFSETTO:-0500
TZNAME:EST
DTSTART:20181104T060000
END:STANDARD
BEGIN:DAYLIGHT
TZOFFSETFROM:-0500
TZOFFSETTO:-0400
TZNAME:EDT
DTSTART:20190310T070000
END:DAYLIGHT
BEGIN:STANDARD
TZOFFSETFROM:-0400
TZOFFSETTO:-0500
TZNAME:EST
DTSTART:20191103T060000
END:STANDARD
BEGIN:DAYLIGHT
TZOFFSETFROM:-0500
TZOFFSETTO:-0400
TZNAME:EDT
DTSTART:20200308T070000
END:DAYLIGHT
BEGIN:STANDARD
TZOFFSETFROM:-0400
TZOFFSETTO:-0500
TZNAME:EST
DTSTART:20201101T060000
END:STANDARD
END:VTIMEZONE
BEGIN:VEVENT
DTSTART;TZID=America/New_York:20190526T050000
DTEND;TZID=America/New_York:20190526T050000
DTSTAMP:20260424T045400
CREATED:20190526T040000Z
LAST-MODIFIED:20250410T150227Z
UID:32733-1558846800-1558846800@www.abmc.gov
SUMMARY:Memorial Day 2019 at Meuse Argonne American Cemetery
DESCRIPTION:Meuse-Argonne American Cemetery will host its annual Memorial Day Ceremony on May 26\, 2019 at 11:00 a.m. Attendance is free and open to the public. If you are a family member of someone who is honored at the cemetery and you’re planning to attend the ceremony\, please email the cemetery at least two weeks prior to the event.
URL:https://www.abmc.gov/event/memorial-day-2019-meuse-argonne-american-cemetery/
ATTACH;FMTTYPE=image/jpeg:https://www.abmc.gov/wordpress-uploads/2017-05-2820Argonne-Meuse20Memorial20Day20ABMC-CDA-8823.jpg
END:VEVENT
END:VCALENDAR